Workbook

Sheet FY22-23 Final Allocation
A1: EXHIBIT A (27127 - FINAL FY23-24)
B2: Award Name: | C2: CS- Implementation Grant
B3: Laws: | C3: 2023
B4: HB/SB: | C4: HB 2
B5: Section: | C5: 187/Public Education Department
B6: Paragraph: | C6: Line 19 Pg 219
A9: State of New Mexico Special Appropriation- Final State Grant/(27127) FINAL AWARD FY23-24
A10: OBMS ENTITY CODE | B10: LOCAL EDUCATION AGENCY | C10: District/State Charter Allocation (Revenue Code 43202)
A11: 1 | B11: Albuquerque Public Schools | C11: =GETPIVOTDATA("Amount",'CS-Implementation'!$F$2,"School District","Albuquerque Public Schools") -> 3776753
A12: 64 | B12: Aztec Municipal Schools | C12: =GETPIVOTDATA("Amount",'CS-Implementation'!$F$2,"School District","Aztec Municipal Schools") -> 150000
A13: 87 | B13: Belen Consolidated Schools | C13: =GETPIVOTDATA("Amount",'CS-Implementation'!$F$2,"School District","Belen Consolidated Schools") -> 150000
A14: 62 | B14: Cuba Independent Schools | C14: =GETPIVOTDATA("Amount",'CS-Implementation'!$F$2,"School District","Cuba Independent School District") -> 83600
A15: 55 | B15: Española Public Schools | C15: =GETPIVOTDATA("Amount",'CS-Implementation'!$F$2,"School District","Espanola Public Schools") -> 83600
A16: 43 | B16: Gallup-McKinley County Schools | C16: =GETPIVOTDATA("Amount",'CS-Implementation'!$F$2,"School District","Gallup-McKinley County Schools") -> 150000
A17: 17 | B17: Las Cruces Public Schools | C17: =GETPIVOTDATA("Amount",'CS-Implementation'!$F$2,"School District","Las Cruces Public Schools") -> 375000
A18: 81 | B18: Moriarty-Edgewood School District | C18: =GETPIVOTDATA("Amount",'CS-Implementation'!$F$2,"School District","Moriarty-Edgewood School District") -> 150000
A19: 77 | B19: Peñasco Independent Schools | C19: =GETPIVOTDATA("Amount",'CS-Implementation'!$F$2,"School District","Peñasco Independent School District") -> 225000
A20: 4 | B20: Roswell Independent Schools | C20: =GETPIVOTDATA("Amount",'CS-Implementation'!$F$2,"School District","Roswell Independent School District") -> 375000
A21: 71 | B21: Santa Fe Public Schools | C21: =GETPIVOTDATA("Amount",'CS-Implementation'!$F$2,"School District","Santa Fe Public Schools") -> 825000
A22: 25 | B22: Santa Rosa Consolidated Schools | C22: =GETPIVOTDATA("Amount",'CS-Implementation'!$F$2,"School District","Santa Rosa Consolidated Schools") -> 71702
A23: 74 | B23: Socorro Consolidated Schools | C23: =GETPIVOTDATA("Amount",'CS-Implementation'!$F$2,"School District","Socorro Consolidated Schools") -> 150000
A24: 76 | B24: Taos Municipal Schools | C24: =GETPIVOTDATA("Amount",'CS-Implementation'!$F$2,"School District","Taos Municipal Schools") -> 450000
A25: 73 | B25: Truth or Consequences Municipal Schools | C25: =GETPIVOTDATA("Amount",'CS-Implementation'!$F$2,"School District","Truth or Consequences Municipal Schools") -> 150000
A26: 68 | B26: West Las Vegas Public Schools | C26: =GETPIVOTDATA("Amount",'CS-Implementation'!$F$2,"School District","West Las Vegas Schools") -> 150000
B27: STATE CHARTERS
A28: 528-001 | B28: Albuquerque Bilingual Academy | C28: =GETPIVOTDATA("Amount",'CS-Implementation'!$F$2,"School District","Albuquerque Bilingual Academy") -> 150000
A29: 517-001 | B29: Albuquerque Sign Language Academy (The) | C29: =GETPIVOTDATA("Amount",'CS-Implementation'!$F$2,"School District","Albuquerque Sign Language Academy") -> 150000
A30: 577-001 | B30: Raices del Saber Xinachtli Community School | C30: =GETPIVOTDATA("Amount",'CS-Implementation'!$F$2,"School District","Raices Del Saber Xinachtli Community School") -> 75000
A31: 583-001 | B31: Rio Grande Academy of Fine Arts | C31: =GETPIVOTDATA("Amount",'CS-Implementation'!$F$2,"School District","Rio Grande Academy of Fine Arts") -> 150000
A32: 510-001 | B32: Taos Academy | C32: =GETPIVOTDATA("Amount",'CS-Implementation'!$F$2,"School District","Taos Academy") -> 150000
A33: 555-001 | B33: Taos International Charter School | C33: =GETPIVOTDATA("Amount",'CS-Implementation'!$F$2,"School District","Taos International School") -> 68670
A34: 76555012 | B34: Vista Grande High School | C34: =GETPIVOTDATA("Amount",'CS-Implementation'!$F$2,"School District","Vista Grande Charter High School") -> 83600
B35: GRAND TOTAL | C35: =SUM(C11:C26)+SUM(C28:C34) -> 8142925
A37: Compliance Requirements: NM Procurement Code (1.4.1 NMAC), Procurement Code (13-1-28 through 13-1-99) NMSA 1978
A38: NM Department of Finance Administration Rules and Regulations: https://www.nmdfa.state.nm.us/financial-control/resource-information

Sheet CS-Implementation
A1: Community School Award List for FY 23-24
A2: School District | B2: School Name | C2: Grant Award Phase | D2: Amount | F2: Row Labels | G2: Sum of Amount
A3: Albuquerque Bilingual Academy | B3: Albuquerque Bilingual Academy | C3: Implementation Year 2 | D3: 150000 | F3: Albuquerque Bilingual Academy | G3: 150000
A4: Albuquerque Public Schools | B4: ACE Leadership High School | C4: Implementation Year 2 | D4: 150000 | F4: Albuquerque Public Schools | G4: 3776753
A5: Albuquerque Public Schools | B5: Apache Elementary School | C5: Implementation | D5: 77003 | F5: Albuquerque Sign Language Academy | G5: 150000
A6: Albuquerque Public Schools | B6: Atrisco Elementary School | C6: Implementation | D6: 150000 | F6: Aztec Municipal Schools | G6: 150000
A7: Albuquerque Public Schools | B7: Bel-Air Elementary School | C7: Implementation | D7: 150000 | F7: Belen Consolidated Schools | G7: 150000
A8: Albuquerque Public Schools | B8: Bellehaven Elementary School | C8: Implementation | D8: 150000 | F8: Cuba Independent School District | G8: 83600
A9: Albuquerque Public Schools | B9: Del Norte High School | C9: Implementation Year 2 | D9: 150000 | F9: Espanola Public Schools | G9: 83600
A10: Albuquerque Public Schools | B10: Duranes Elementary School | C10: Renewal | D10: 75000 | F10: Gallup-McKinley County Schools | G10: 150000
A11: Albuquerque Public Schools | B11: East San Jose Elementary School | C11: Implementation Year 2 | D11: 150000 | F11: Las Cruces Public Schools | G11: 375000
A12: Albuquerque Public Schools | B12: Edward Gonzales Elementary School | C12: Implementation Year 2 | D12: 150000 | F12: Moriarty-Edgewood School District | G12: 150000
A13: Albuquerque Public Schools | B13: Eugene Field Elementary School | C13: Renewal | D13: 58000 | F13: Peñasco Independent School District | G13: 225000
A14: Albuquerque Public Schools | B14: Garfield STEM Magnet & Community School Middle School | C14: Implementation | D14: 150000 | F14: Raices Del Saber Xinachtli Community School | G14: 75000
... A26: Albuquerque Public Schools | B26: Pajarito Elementary School | C26: Implementation | D26: 116750 | F26: Grand Total | G26: 8142925
A27: Albuquerque Public Schools | B27: Reginald Chavez Elementary School | C27: Implementation Year 2 | D27: 150000
A28: Albuquerque Public Schools | B28: Rudolfo Anaya Elementary School | C28: Renewal | D28: 75000
A29: Albuquerque Public Schools | B29: Siembra Leadership High School | C29: Implementation | D29: 150000
A30: Albuquerque Public Schools | B30: Truman Middle School | C30: Implementation | D30: 150000
A31: Albuquerque Public Schools | B31: Van Buren Middle School | C31: Implementation Year 2 | D31: 150000
A32: Albuquerque Public Schools | B32: Whittier Elementary School | C32: Implementation | D32: 150000
A33: Albuquerque Sign Language Academy | B33: Albuquerque Sign Language Academy | C33: Implementation Year 2 | D33: 150000
A34: Aztec Municipal Schools | B34: Mosaic Academy Charter School | C34: Implementation | D34: 150000
A35: Belen Consolidated Schools | B35: La Promesa Elementary School | C35: Implementation | D35: 150000
A36: Cuba Independent School District | B36: Cuba Independent School District | C36: Renewal | D36: 83600
A37: Espanola Public Schools | B37: Carlos Vigil Middle School | C37: Renewal | D37: 83600
A38: Gallup-McKinley County Schools | B38: Gallup Central High School | C38: Implementation | D38: 150000
... A66: West Las Vegas Schools | B66: Rio Gallinas Charter School | C66: Implementation | D66: 150000
C67: Total | D67: =SUM(D3:D66) -> 8142925
